BEGIN:VCALENDAR
VERSION:2.0
PRODID:-//Commune d&#039;Obermodern-Zutzendorf - ECPv6.15.18//NONSGML v1.0//EN
CALSCALE:GREGORIAN
METHOD:PUBLISH
X-WR-CALNAME:Commune d&#039;Obermodern-Zutzendorf
X-ORIGINAL-URL:https://www.obermodern-zutzendorf.com
X-WR-CALDESC:Évènements pour Commune d&#039;Obermodern-Zutzendorf
REFRESH-INTERVAL;VALUE=DURATION:PT1H
X-Robots-Tag:noindex
X-PUBLISHED-TTL:PT1H
BEGIN:VTIMEZONE
TZID:Europe/Paris
BEGIN:DAYLIGHT
TZOFFSETFROM:+0100
TZOFFSETTO:+0200
TZNAME:CEST
DTSTART:20250330T010000
END:DAYLIGHT
BEGIN:STANDARD
TZOFFSETFROM:+0200
TZOFFSETTO:+0100
TZNAME:CET
DTSTART:20251026T010000
END:STANDARD
BEGIN:DAYLIGHT
TZOFFSETFROM:+0100
TZOFFSETTO:+0200
TZNAME:CEST
DTSTART:20260329T010000
END:DAYLIGHT
BEGIN:STANDARD
TZOFFSETFROM:+0200
TZOFFSETTO:+0100
TZNAME:CET
DTSTART:20261025T010000
END:STANDARD
BEGIN:DAYLIGHT
TZOFFSETFROM:+0100
TZOFFSETTO:+0200
TZNAME:CEST
DTSTART:20270328T010000
END:DAYLIGHT
BEGIN:STANDARD
TZOFFSETFROM:+0200
TZOFFSETTO:+0100
TZNAME:CET
DTSTART:20271031T010000
END:STANDARD
END:VTIMEZONE
BEGIN:VEVENT
DTSTART;VALUE=DATE:20260301
DTEND;VALUE=DATE:20260401
DTSTAMP:20260421T160605
CREATED:20250304T182841Z
LAST-MODIFIED:20260213T073806Z
UID:4007-1772323200-1775001599@www.obermodern-zutzendorf.com
SUMMARY:Inscriptions périscolaires 2026 - 2027
DESCRIPTION:Les familles pas encore inscrites peuvent préparer dès maintenant leur demande pour les accueils périscolaires 2026-2027. Le formulaire d’expression des besoins et les justificatifs sont à déposer entre le 1er et le 31 mars 2026. \nPlaces attribuées en fonction des conditions d’admission définies et dans la limite des  places disponibles. \nRenseignements auprès du périscolaire d’Obermodern-Zutzendorf – 3 chemin du Sable – 67330 OBERMODERN-ZUTZENDORF \nTél 03 88 90 88 19 – mail : peri.obermodern@agf67.fr
URL:https://www.obermodern-zutzendorf.com/event/pre-inscription-periscolaire/
LOCATION:PERISCOLAIRE
ATTACH;FMTTYPE=image/jpeg:https://www.obermodern-zutzendorf.com/wp-content/uploads/2025/03/Photo-batiment-peri.jpg
END:VEVENT
BEGIN:VEVENT
DTSTART;TZID=Europe/Paris:20260308T090000
DTEND;TZID=Europe/Paris:20260308T140000
DTSTAMP:20260421T160605
CREATED:20230215T122432Z
LAST-MODIFIED:20260122T061540Z
UID:2035-1772960400-1772978400@www.obermodern-zutzendorf.com
SUMMARY:BOURSE AUX JOUETS & VÊTEMENTS
DESCRIPTION:Le dimanche 8 mars 2026 de 9h à 14h l’APE l’Arbre Eléphant organise une bourse aux jouets et vêtements au centre culturel d’OBERMODERN. \nRenseignements et précisions sur l’affiche.
URL:https://www.obermodern-zutzendorf.com/event/bourse-aux-jouets-vetements/
LOCATION:Centre culturel Obermodern\, route de Bouxwiller\, OBERMODERN ZUTZENDORF\, 67330
ATTACH;FMTTYPE=image/jpeg:https://www.obermodern-zutzendorf.com/wp-content/uploads/2023/02/Affiche-bourse2026.jpg
END:VEVENT
BEGIN:VEVENT
DTSTART;TZID=Europe/Paris:20260313T140000
DTEND;TZID=Europe/Paris:20260313T160000
DTSTAMP:20260421T160605
CREATED:20260220T184611Z
LAST-MODIFIED:20260220T184611Z
UID:4553-1773410400-1773417600@www.obermodern-zutzendorf.com
SUMMARY:Questions sur la fin de vie
DESCRIPTION:Rencontre et partage sur les questions de fin de vie le vendredi 13 mars de 14h à 16h au foyer d’Obermodern.
URL:https://www.obermodern-zutzendorf.com/event/questions-sur-la-fin-de-vie/
LOCATION:Foyer parroisial\, 51 rue de la Moder\, OBERMODERN ZUTZENDORF\, France
ATTACH;FMTTYPE=image/jpeg:https://www.obermodern-zutzendorf.com/wp-content/uploads/2026/02/Rencontre-Partage-mars-2026-scaled.jpg
END:VEVENT
BEGIN:VEVENT
DTSTART;TZID=Europe/Paris:20260313T163000
DTEND;TZID=Europe/Paris:20260314T120000
DTSTAMP:20260421T160605
CREATED:20240227T144655Z
LAST-MODIFIED:20260226T074958Z
UID:3248-1773419400-1773489600@www.obermodern-zutzendorf.com
SUMMARY:Inscription école maternelle rentrée 2026/2027
DESCRIPTION:L’inscription à l’école maternelle d’OBERMODERN-ZUTZENDORF des enfants nés en 2023 aura lieu à l’école maternelle : \nVendredi 13 mars à partir de 16h30\net \nSamedi 14 mars de 9h à 12h\nMerci de vous munir du carnet de santé de votre enfant\, ainsi que de votre livret de famille
URL:https://www.obermodern-zutzendorf.com/event/inscription-ecole-maternelle-rentree-2024-2025/
LOCATION:Ecole maternelle\, 3 rue de Zutzendorf\, France
ATTACH;FMTTYPE=image/jpeg:https://www.obermodern-zutzendorf.com/wp-content/uploads/2024/02/Inscription_scolaire.jpg
END:VEVENT
BEGIN:VEVENT
DTSTART;VALUE=DATE:20260315
DTEND;VALUE=DATE:20260316
DTSTAMP:20260421T160605
CREATED:20250220T064207Z
LAST-MODIFIED:20260213T064303Z
UID:3969-1773532800-1773619199@www.obermodern-zutzendorf.com
SUMMARY:WIOSNA FÊTE LE PRINTEMPS
DESCRIPTION:6ème édition du marché des artisans\, créateurs et producteurs salle polyvalente et rue des vergers à Zutzendorf le 15 mars 2026 de 10h à 18h.Plus de 60 exposants et savoir-faire différents.Beaucoup de nouveaux métiers et savoir-faire : coutelier\, potier\, peintre\, fleuriste\, biscuitier\, confiturier\, distillateur\, liquoriste\, confiseur\, herboriste\, Naturopathe\, bûcheron\, scieur de long.Et toujours nos fidèles : tourneur sur bois\, vannier\, céramiste\, brodeuse\, créateur d’objet et de design\, horticulteur\, sculpteur\, métallier\, chocolatier\, apiculteur\, torréfacteur\, producteurs\, pisciculteur\, fromager\, maraîcher\, viticulteur\, brasseur\, traiteurs…Nouveauté : Coup de projecteur sur [ le bois dans tous ses états ]\, de la forêt à la feuille de papier présenté et animé par de nombreux exposants à découvrir dans nos prochaines parutions et évidement sur place.De nombreuses animations et démonstrations toute la journée pour vous divertir ou découvrir des nouveaux et anciens métiers : du bûcheronnage\, des scieurs de long\, un passionné d’agrumes\, de la reliure à la feuille d’or\, de la mise en couleur d’œufs de Pâques et de nombreux jeux en bois pour enfants et adultes.Pour vos papilles\, un repas chaud sera proposé\, sur réservation uniquement\, de 12h à 14h dans la salle polyvalente et sous tente en extérieur. A suivre impérativement dans les prochaines éditions pour réserver.Et comme chaque année\, les incontournables pâtisseries de l’association Wiosna.L’entrée est gratuite.Programme à découvrir chaque jour sur notre page Facebook : Wiosna fête le printempshttps://www.facebook.com/profile.php?id=61556611172036Organisateur A.D.P. Wiosnaà diffuser et à partager sans modération 
URL:https://www.obermodern-zutzendorf.com/event/wiosna-fete-le-printemps-2/
LOCATION:ZUTZENDORF\, ZUTZENDORF\, 67330\, France
ATTACH;FMTTYPE=image/jpeg:https://www.obermodern-zutzendorf.com/wp-content/uploads/2025/02/Affiche-FDP-2026-scaled.jpg
END:VEVENT
BEGIN:VEVENT
DTSTART;VALUE=DATE:20260321
DTEND;VALUE=DATE:20260323
DTSTAMP:20260421T160605
CREATED:20230809T150529Z
LAST-MODIFIED:20260307T073127Z
UID:2700-1774051200-1774223999@www.obermodern-zutzendorf.com
SUMMARY:Formation aux Gestes Qui Sauvent 21 mars 2026
DESCRIPTION:La sensibilisation aux gestes qui sauvent (GQS) est un dispositif agréé par le ministère de l’Intérieur\, devant permettre au citoyen\, à l’issue d’une séance de 2 heures\, d’être un acteur de la sécurité civile\, en étant capable :\n de protéger et d’alerter\,\n d’arrêter une hémorragie\,\n de mettre la victime en positions d’attente\,\n de pratiquer une réanimation cardiaque.\nVenez vous former avec la section d’Obermodern-Zutzendorf et l’amicale des Sapeurs Pompiers d’Obermodern-Zutzendorf le :\n Samedi 21 mars 2026 à 10h00\n Samedi 21 mars 2026 à 14h\nLes formations auront lieu au Centre culture d’Obermodern (rue de Bouxwiller).\nInscription obligatoire auprès de : pompiers.zutzendorf@gmail.com \nDate limite des inscriptions le 13 mars 2026 au plus tard.
URL:https://www.obermodern-zutzendorf.com/event/formation-aux-gestes-qui-sauvent/
LOCATION:Centre culturel Obermodern\, route de Bouxwiller\, OBERMODERN ZUTZENDORF\, 67330
ATTACH;FMTTYPE=image/jpeg:https://www.obermodern-zutzendorf.com/wp-content/uploads/2023/08/bmpm-gestes-qui-sauvent-vign-1_1.jpg
END:VEVENT
BEGIN:VEVENT
DTSTART;TZID=Europe/Paris:20260326T200000
DTEND;TZID=Europe/Paris:20260326T220000
DTSTAMP:20260421T160605
CREATED:20260310T110155Z
LAST-MODIFIED:20260310T110348Z
UID:4572-1774555200-1774562400@www.obermodern-zutzendorf.com
SUMMARY:Conférence "La  graphologie au travers des signatures de personnages célèbres"
DESCRIPTION:Le CLub Edelweiss / OZUT on n’a plus 20 ans » propose une conférence « La graphologie au travers des signatures de personnages célèbres » animée par Christiane HEITMANN \nJeudi 26 mars 2026 à 20H sous l’école de Zutzendorf. \nCordiale invitation à tous.
URL:https://www.obermodern-zutzendorf.com/event/conference-la-graphologie-au-travers-des-signatures-de-personnages-celebres/
LOCATION:Salle sous l’école de Zutzendorf
ATTACH;FMTTYPE=image/jpeg:https://www.obermodern-zutzendorf.com/wp-content/uploads/2026/03/Affiche-conference-26.03.2026.jpg
END:VEVENT
BEGIN:VEVENT
DTSTART;TZID=Europe/Paris:20260329T083000
DTEND;TZID=Europe/Paris:20260329T113000
DTSTAMP:20260421T160605
CREATED:20260324T061827Z
LAST-MODIFIED:20260324T061827Z
UID:4599-1774773000-1774783800@www.obermodern-zutzendorf.com
SUMMARY:Matinée pêche à la truite
DESCRIPTION:L’Association de Pêche d’Obermodern et Environs organise une matinée « pêche à la truite » le dimanche 29 mars à l’ancien étang. \nRenseignements sur l’affiche.
URL:https://www.obermodern-zutzendorf.com/event/matinee-peche-a-la-truite/
ATTACH;FMTTYPE=image/jpeg:https://www.obermodern-zutzendorf.com/wp-content/uploads/2026/03/Peche-truite-22-et-29.03.2026.jpg
END:VEVENT
END:VCALENDAR