BEGIN:VCALENDAR
VERSION:2.0
PRODID:-//Commune d&#039;Obermodern-Zutzendorf - ECPv6.15.18//NONSGML v1.0//EN
CALSCALE:GREGORIAN
METHOD:PUBLISH
X-WR-CALNAME:Commune d&#039;Obermodern-Zutzendorf
X-ORIGINAL-URL:https://www.obermodern-zutzendorf.com
X-WR-CALDESC:Évènements pour Commune d&#039;Obermodern-Zutzendorf
REFRESH-INTERVAL;VALUE=DURATION:PT1H
X-Robots-Tag:noindex
X-PUBLISHED-TTL:PT1H
BEGIN:VTIMEZONE
TZID:Europe/Paris
BEGIN:DAYLIGHT
TZOFFSETFROM:+0100
TZOFFSETTO:+0200
TZNAME:CEST
DTSTART:20240331T010000
END:DAYLIGHT
BEGIN:STANDARD
TZOFFSETFROM:+0200
TZOFFSETTO:+0100
TZNAME:CET
DTSTART:20241027T010000
END:STANDARD
BEGIN:DAYLIGHT
TZOFFSETFROM:+0100
TZOFFSETTO:+0200
TZNAME:CEST
DTSTART:20250330T010000
END:DAYLIGHT
BEGIN:STANDARD
TZOFFSETFROM:+0200
TZOFFSETTO:+0100
TZNAME:CET
DTSTART:20251026T010000
END:STANDARD
BEGIN:DAYLIGHT
TZOFFSETFROM:+0100
TZOFFSETTO:+0200
TZNAME:CEST
DTSTART:20260329T010000
END:DAYLIGHT
BEGIN:STANDARD
TZOFFSETFROM:+0200
TZOFFSETTO:+0100
TZNAME:CET
DTSTART:20261025T010000
END:STANDARD
END:VTIMEZONE
BEGIN:VEVENT
DTSTART;TZID=Europe/Paris:20250301T190000
DTEND;TZID=Europe/Paris:20250301T233000
DTSTAMP:20260422T215740
CREATED:20250117T081552Z
LAST-MODIFIED:20250117T081552Z
UID:3925-1740855600-1740871800@www.obermodern-zutzendorf.com
SUMMARY:SOIREE TARTES FLAMBEES U13 KR – 01 Mars à Obermodern
DESCRIPTION:Samedi 01 mars 2025\, les U12 et U13 de KOMETRIB auront le plaisir de vous proposer de délicieuses TARTES FLAMBEES !! 🍴 \n👉 START : A partir de 19h à la salle culturelle d’Obermodern ! \nℹ️ Cette manifestation permettra\, en partie\, de financer leur projet de participation au tournoi international de la German Football Festival à Dresden. \nLes réservations se font via le lien Helloasso : \nhttps://www.helloasso.com/associations/kometrib-section-jeunes/evenements/soiree-tarte-flambees-a-volonte
URL:https://www.obermodern-zutzendorf.com/event/soiree-tartes-flambees-u13-kr-01-mars-a-obermodern/
LOCATION:Centre culturel Obermodern\, route de Bouxwiller\, OBERMODERN ZUTZENDORF\, 67330
ATTACH;FMTTYPE=image/jpeg:https://www.obermodern-zutzendorf.com/wp-content/uploads/2025/01/Soiree-tarte-flambee-01.03.2025.jpg
END:VEVENT
BEGIN:VEVENT
DTSTART;TZID=Europe/Paris:20250321T190000
DTEND;TZID=Europe/Paris:20250321T220000
DTSTAMP:20260422T215740
CREATED:20250310T062554Z
LAST-MODIFIED:20250310T062554Z
UID:4048-1742583600-1742594400@www.obermodern-zutzendorf.com
SUMMARY:Rencontre avec le GORNA
DESCRIPTION:Venez à la rencontre du Gorna et découvrez les missions de protection de la faune sauvage ! \n\n\nLe temps d’une rencontre inédite\, plongez au cœur des actions des Blouses Vertes de nos Forêts\, ces héros discrets qui œuvrent chaque jour pour préserver notre faune locale. \nComment pouvez-vous\, à votre échelle\, contribuer à la sauvegarde des espèces et protéger notre biodiversité ? Découvrez des gestes simples mais cruciaux pour venir en aide à un animal en difficulté \, et apprenez les bonnes pratiques pour optimiser sa prise en charge. \nUnis’Vert vous invite à cette rencontre passionnante\, le vendredi 21 mars à 19h\, au Centre Culturel d’Obermodern\, où vous pourrez échanger\, poser vos questions et comprendre les enjeux de la faune sauvage\, à travers l’expertise des Blouses Vertes. Ensemble\, agissons pour la préservation de notre environnement ! \nRejoignez-nous pour cette expérience enrichissante et découvrez comment vous pouvez faire la différence !
URL:https://www.obermodern-zutzendorf.com/event/rencontre-avec-le-gorna/
LOCATION:Centre culturel Obermodern\, route de Bouxwiller\, OBERMODERN ZUTZENDORF\, 67330
ATTACH;FMTTYPE=image/jpeg:https://www.obermodern-zutzendorf.com/wp-content/uploads/2025/03/Affiche-GORNA-21.03.2025.jpg
ORGANIZER;CN="UNIS VERT":MAILTO:unisvert67@gmail.com
END:VEVENT
BEGIN:VEVENT
DTSTART;TZID=Europe/Paris:20250322T100000
DTEND;TZID=Europe/Paris:20250322T120000
DTSTAMP:20260422T215740
CREATED:20250305T060928Z
LAST-MODIFIED:20250305T060928Z
UID:4013-1742637600-1742644800@www.obermodern-zutzendorf.com
SUMMARY:Portes ouvertes micro crèche OBERMODERN ZUTZENDORF
DESCRIPTION:Le Relais Petite Enfance organise la semaine nationale de la petite enfance. \nCette semaine a pour but de faire découvrir les structures d’accueil collectif présentes sur notre territoire lors de la journée portes ouvertes le samedi 22 mars à Obermodern : Micro-crèche le repère des bout’chou – 1A rue des Tilleuls\, et dans d’autres structures (voir affiche). \nLes familles peuvent se rendre dans chacune des strucAffiche Semaine de la petite enfance 22.03.2025tures pour visiter\, mais aussi venir rencontrer des assistantes maternelles ayant des places disponibles lors du job dating (Ingwiller)
URL:https://www.obermodern-zutzendorf.com/event/portes-ouvertes-micro-creche-obermodern-zutzendorf/
ATTACH;FMTTYPE=application/pdf:https://www.obermodern-zutzendorf.com/wp-content/uploads/2025/03/Affiche-Semaine-de-la-petite-enfance-22.03.2025-1.pdf
END:VEVENT
BEGIN:VEVENT
DTSTART;TZID=Europe/Paris:20250329T100000
DTEND;TZID=Europe/Paris:20250329T110000
DTSTAMP:20260422T215740
CREATED:20250321T211225Z
LAST-MODIFIED:20250321T211225Z
UID:4066-1743242400-1743246000@www.obermodern-zutzendorf.com
SUMMARY:ATELIER COMPOSTAGE
DESCRIPTION:Dans les derniers mois\, vous avez fait l’acquisition d’un composteur auprès de SMICTOM de Saverne. \nL’information suivante est donc susceptible de vous intéresser : \nDans le cadre de son programme d’animations de réduction des déchets\, le SMICTOM propose un : \nATELIER COMPOSTAGE \nSamedi 29 mars 2025 de 10h à 11h à Obermodern-Zutzendorf (placette de compostage – parking gare) \nVenez découvrir les bases du compostage et poser toutes vos questions ! \n► Cette animation gratuite est assurée par le maître-composteur du Smictom de la région de Saverne \nInscriptions jusqu’au 25 mars 2025 : plpdma@smictomdesaverne.fr ou au  03 88 02 21 80
URL:https://www.obermodern-zutzendorf.com/event/atelier-compostage/
ATTACH;FMTTYPE=image/png:https://www.obermodern-zutzendorf.com/wp-content/uploads/2025/03/2024-Atelier-compostage.png
END:VEVENT
BEGIN:VEVENT
DTSTART;TZID=Europe/Paris:20250329T190000
DTEND;TZID=Europe/Paris:20250329T190000
DTSTAMP:20260422T215740
CREATED:20250304T114429Z
LAST-MODIFIED:20250304T114429Z
UID:4004-1743274800-1743274800@www.obermodern-zutzendorf.com
SUMMARY:Soirée PAELLA
DESCRIPTION:Le samedi 29 mars 2025  le Football Club d’Obermodern organise une soirée paella (ou émincé de poulet avec spatzele) au Club House\, uniquement sur réservation. \nRenseignements et inscription : voir affiche
URL:https://www.obermodern-zutzendorf.com/event/soiree-paella/
LOCATION:Club house FCO\, rue de la Moder\, OBERMODERN ZUTZENDORF\, France
ATTACH;FMTTYPE=image/jpeg:https://www.obermodern-zutzendorf.com/wp-content/uploads/2025/03/Soiree-paella-29.03.2025.jpg
END:VEVENT
END:VCALENDAR